BEGIN:VCALENDAR
VERSION:2.0
PRODID:-//ChamberMaster//Event Calendar 2.0//EN
METHOD:PUBLISH
X-PUBLISHED-TTL:P3D
REFRESH-INTERVAL:P3D
CALSCALE:GREGORIAN
BEGIN:VEVENT
DTSTART:20061205T000000Z
DTEND:20061205T020000Z
X-MICROSOFT-CDO-ALLDAYEVENT:FALSE
SUMMARY:501 Club Host Training
DESCRIPTION:This event is by invitation only.  For more information\, contact Lori Sturgill at 422.2200.  Invited attendees can register by using the Registor Now link in the lower right column.
X-ALT-DESC;FMTTYPE=text/html:This event is by invitation only.  For more information\, contact Lori Sturgill at 422.2200.  Invited attendees can register by using the Registor Now link in the lower right column.
LOCATION:
UID:e.1825.47
SEQUENCE:3
DTSTAMP:20260423T022852Z
URL:http://business.decaturchamber.com/events/details/501-club-host-training-12-04-2006-47
END:VEVENT

END:VCALENDAR
