BEGIN:VCALENDAR
VERSION:2.0
PRODID:-//ChamberMaster//Event Calendar 2.0//EN
METHOD:PUBLISH
X-PUBLISHED-TTL:P3D
REFRESH-INTERVAL:P3D
CALSCALE:GREGORIAN
BEGIN:VEVENT
DTSTART:20230729T200000Z
DTEND:20230730T030000Z
X-MICROSOFT-CDO-ALLDAYEVENT:FALSE
SUMMARY:Chasetta Munsterman Benefit
DESCRIPTION:This Benefit is for Chasetta Munsterman. She is from Harristown\, and is currently battling Cervical Cancer. Chasetta was diagnosed with cancer earlier this year. The benefit will help to raise money for her medical expenses as well as pay some bills\, as she has been unable to work as a result of her treatments. The event will be on July 29\, 2023 at Pop's Place in Decatur and will start at 3pm. We will have dinner by donations\, which includes: Pulled Pork sandwich or a hot dog\, pasta salad\, and chips. There will be a silent auction\, live auction\, raffle items\, bake sale\, & bags tournament. You can find more information on our Facebook page "Chasetta Munsterman Benefit." Donations for the silent auction and raffle are greatly appreciated. If you are unable to donate\, you can make a monetary donation via Venmo @cmunsterman1.
X-ALT-DESC;FMTTYPE=text/html:This Benefit is for Chasetta Munsterman. She is from Harristown\, and is currently battling Cervical Cancer. Chasetta was diagnosed with cancer earlier this year. The benefit will help to raise money for her medical expenses as well as pay some bills\, as she has been unable to work as a result of her treatments. The event will be on July 29\, 2023 at Pop&#39\;s Place in Decatur and will start at 3pm. We will have dinner by donations\, which includes: Pulled Pork sandwich or a hot dog\, pasta salad\, and chips. There will be a silent auction\, live auction\, raffle items\, bake sale\, &amp\; bags tournament. You can find more information on our Facebook page &quot\;Chasetta Munsterman Benefit.&quot\; Donations for the silent auction and raffle are greatly appreciated. If you are unable to donate\, you can make a monetary donation via Venmo @cmunsterman1.
LOCATION:Pop's Place 4335 W. Main St. Decatur\, IL
UID:e.1825.5107
SEQUENCE:3
DTSTAMP:20260419T145830Z
URL:http://business.decaturchamber.com/events/details/chasetta-munsterman-benefit-5107
END:VEVENT

END:VCALENDAR
