BEGIN:VCALENDAR
VERSION:2.0
PRODID:-//ChamberMaster//Event Calendar 2.0//EN
METHOD:PUBLISH
X-PUBLISHED-TTL:P3D
REFRESH-INTERVAL:P3D
CALSCALE:GREGORIAN
BEGIN:VEVENT
DTSTART:20061005T220000Z
DTEND:20061006T010000Z
X-MICROSOFT-CDO-ALLDAYEVENT:FALSE
SUMMARY:DLI Alumni - Dart Tournament
DESCRIPTION:Untitled Document\n\n\n\n\n\n\n\nWal-Mart Final Four \n\nThursday\, October 5\, 2006 from \n5-8 pm at The Beach House\n\n"Social Play"\n\n  All alumni and guests are engaged to participate.\nAdmission\, Hor dorves & 2 Drink Tickets (wine/beer) \n\n  $10 per person (early sign-up) / $15 (at the door) / Cash Bar\nDart Tournament Play\n\n  $10 per person / Limited to 64 players / All skill levels\n\n   Regional Winners Receive Dart Board \n  donated by Wal-Mart\n      Tournament Winner \n    Receives $40 Metro Money\n      50/50 Raffle\n\nProceeds benefit \n        DLI AA Scholarship Fund\n\n  \n\n    Tournament \n  Sponsors\n\n  Wal-Mart\n\n  Larry Chapman \nof Lyle Campbell & Son\n\nBKD\, LLP\n\nTim Dudley \nof Brinkoetter & Associates
X-ALT-DESC;FMTTYPE=text/html:<!DOCTYPE HTML PUBLIC "-//W3C//DTD HTML 4.01 Transitional//EN"\n"http://www.w3.org/TR/html4/loose.dtd">\n<html>\n<head>\n<title>Untitled Document</title>\n<meta http-equiv="Content-Type" content="text/html\; charset=iso-8859-1">\n<style type="text/css">\n<!--\n.style2 {\n	font-family: Arial\, Helvetica\, sans-serif\;\n	font-size: 14px\;\n}\n.style3 {\n	font-size: 16px\;\n	font-weight: bold\;\n}\n.style4 {font-family: Arial\, Helvetica\, sans-serif}\n.style5 {font-size: 14px}\n.style6 {font-weight: bold}\n-->\n</style>\n</head>\n\n<body>\n<span class="style2"><span class="style3">Wal-Mart Final Four </span><br>\nThursday\, October 5\, 2006 from \n5-8 pm at The Beach House\n</span>\n<p class="style2"><strong>&ldquo\;Social Play&rdquo\;</strong><br>\n  All alumni and guests are engaged to participate.</p>\n<p class="style2">Admission\, Hor dorves &amp\; 2 Drink Tickets (wine/beer) <br>\n  $10 per person (early sign-up) / $15 (at the door) / Cash Bar</p>\n<p class="style2">Da<span class="style4">rt Tour<span class="style5">nament Play<br>\n  $10 per person / Limited to 64 players / All skill levels</span></span></p>\n<ul class="style2">\n  <li class="style6"> Regional Winners Receive Dart Board \n  donated by Wal-Mart</li>\n  <li><strong>    Tournament Winner \n    Receives $40 Metro Money</strong></li>\n  <li><strong>    50/50 Raffle</strong></li>\n</ul>\n<p class="style2">Proceeds benefit \n        DLI AA Scholarship Fund<br>\n  <br>\n    <strong>Tournament \n  Sponsors<br>\n  </strong>Wal-Mart<br>\n  Larry Chapman \nof Lyle Campbell &amp\; Son<br>\nBKD\, LLP<br>\nTim Dudley \nof Brinkoetter &amp\; Associates</p>\n</body>\n</html>\n
LOCATION:
UID:e.1825.24
SEQUENCE:3
DTSTAMP:20260423T052003Z
URL:http://business.decaturchamber.com/events/details/dli-alumni-dart-tournament-10-05-2006-24
END:VEVENT

END:VCALENDAR
