BEGIN:VCALENDAR
VERSION:2.0
PRODID:-//ChamberMaster//Event Calendar 2.0//EN
METHOD:PUBLISH
X-PUBLISHED-TTL:P3D
REFRESH-INTERVAL:P3D
CALSCALE:GREGORIAN
BEGIN:VEVENT
DTSTART:20230205T200000Z
DTEND:20230205T220000Z
X-MICROSOFT-CDO-ALLDAYEVENT:FALSE
SUMMARY:Flower Pot Snowman Craft For Adults
DESCRIPTION:Paint and build a snowman out of small\, terracotta flower pots. All supplies provided\, and your snowman is yours to take home at the end of the program.
X-ALT-DESC;FMTTYPE=text/html:Paint and build a snowman out of small\, terracotta flower pots. All supplies provided\, and your snowman is yours to take home at the end of the program.
LOCATION:Rock Springs Nature Center
UID:e.1825.4887
SEQUENCE:3
DTSTAMP:20260420T010631Z
URL:http://business.decaturchamber.com/events/details/flower-pot-snowman-craft-for-adults-4887
END:VEVENT

END:VCALENDAR
