BEGIN:VCALENDAR
VERSION:2.0
PRODID:-//ChamberMaster//Event Calendar 2.0//EN
METHOD:PUBLISH
X-PUBLISHED-TTL:P3D
REFRESH-INTERVAL:P3D
CALSCALE:GREGORIAN
BEGIN:VEVENT
DTSTART:20230630T210000Z
DTEND:20230701T024500Z
X-MICROSOFT-CDO-ALLDAYEVENT:FALSE
SUMMARY:Freedom Fest
DESCRIPTION:Fireworks\, music\, food trucks\, games
X-ALT-DESC;FMTTYPE=text/html:Fireworks\, music\, food trucks\, games
LOCATION:Maranatha Church 555 W. Imboden Drive Decatur\, IL
UID:e.1825.5016
SEQUENCE:3
DTSTAMP:20260419T133807Z
URL:http://business.decaturchamber.com/events/details/freedom-fest-5016
END:VEVENT

END:VCALENDAR
