BEGIN:VCALENDAR
VERSION:2.0
PRODID:-//ChamberMaster//Event Calendar 2.0//EN
METHOD:PUBLISH
X-PUBLISHED-TTL:P3D
REFRESH-INTERVAL:P3D
CALSCALE:GREGORIAN
BEGIN:VEVENT
DTSTART:20230204T163000Z
DTEND:20230204T190000Z
X-MICROSOFT-CDO-ALLDAYEVENT:FALSE
SUMMARY:Heart Swag Macrame Workshop-Decatur Area Arts Council
DESCRIPTION:Who knew knot tying could be so relaxing?\n\nRecommended for ages 8 and up. Younger participants are encouraged to bring an adult helper.\n\nYour instructor will teach you the basic macrame knots of this ancient craft and how to combine them to create a beautiful heart swag.   \n\nNOTE: You must register for this class by January 27\, 2023.\n\nTeacher: Pam Larrick
X-ALT-DESC;FMTTYPE=text/html:<p class="pageSummary" style="font-size: 18px\; font-family: Arial\, Helvetica\, sans-serif\; line-height: 24px\; margin: 9px 0px 12px\; color: rgb(35\, 31\, 32)\; background-color: rgb(255\, 255\, 255)\;">Who knew knot tying could be so relaxing?</p>\n\n<p style="font-size: 14px\; font-family: Arial\, Helvetica\, sans-serif\; line-height: 20px\; margin: 9px 0px\; color: rgb(35\, 31\, 32)\; background-color: rgb(255\, 255\, 255)\;">Recommended for ages 8 and up. Younger participants are encouraged to bring an adult helper.</p>\n\n<p style="font-size: 14px\; font-family: Arial\, Helvetica\, sans-serif\; line-height: 20px\; margin: 9px 0px\; color: rgb(35\, 31\, 32)\; background-color: rgb(255\, 255\, 255)\;">Your instructor will teach you the basic macrame knots of this ancient craft and how to combine them to create a beautiful heart swag.&nbsp\; &nbsp\;</p>\n\n<p style="font-size: 14px\; font-family: Arial\, Helvetica\, sans-serif\; line-height: 20px\; margin: 9px 0px\; color: rgb(35\, 31\, 32)\; background-color: rgb(255\, 255\, 255)\;"><u><span style="font-size: 14.0014px\; font-weight: 700\;">NOTE:</span>&nbsp\;You must register for this class by January 27\, 2023.</u></p>\n\n<p style="font-size: 14px\; font-family: Arial\, Helvetica\, sans-serif\; line-height: 20px\; margin: 9px 0px\; color: rgb(35\, 31\, 32)\; background-color: rgb(255\, 255\, 255)\;">Teacher: Pam Larrick</p>\n
LOCATION:DAAC Studio 125 N. Water St. Decatur\, Il 62523
UID:e.1825.4872
SEQUENCE:3
DTSTAMP:20260420T010322Z
URL:http://business.decaturchamber.com/events/details/heart-swag-macrame-workshop-decatur-area-arts-council-4872
END:VEVENT

END:VCALENDAR
