BEGIN:VCALENDAR
VERSION:2.0
PRODID:-//ChamberMaster//Event Calendar 2.0//EN
METHOD:PUBLISH
X-PUBLISHED-TTL:P3D
REFRESH-INTERVAL:P3D
CALSCALE:GREGORIAN
BEGIN:VEVENT
DTSTART:20230223T000000Z
DTEND:20230223T020000Z
X-MICROSOFT-CDO-ALLDAYEVENT:FALSE
SUMMARY:Intro to Digital Photography For Wildlife and Nature
DESCRIPTION:Join Joe Norton of the Decatur Camera Club for this four-week photography workshop. Participants will learn how to use their cameras\, how to plan for the best photographic results in the outdoors\, and get hands-on instruction.\n\n\n\nSome cameras will be available for use if you don't have your own. This workshop is geared towards beginner and intermediate photographers\, but photographers of all skill levels are welcome to join. Come to one or come to all four.
X-ALT-DESC;FMTTYPE=text/html:Join Joe Norton of the Decatur Camera Club for this four-week photography workshop. Participants will learn how to use their cameras\, how to plan for the best photographic results in the outdoors\, and get hands-on instruction.<br />\n<br />\nSome cameras will be available for use if you don&rsquo\;t have your own. This workshop is geared towards beginner and intermediate photographers\, but photographers of all skill levels are welcome to join. Come to one or come to all four.
LOCATION:Rock Springs Nature Center
UID:e.1825.4885
SEQUENCE:3
DTSTAMP:20260420T010814Z
URL:http://business.decaturchamber.com/events/details/intro-to-digital-photography-for-wildlife-and-nature-4885
END:VEVENT

END:VCALENDAR
