BEGIN:VCALENDAR
VERSION:2.0
PRODID:-//ChamberMaster//Event Calendar 2.0//EN
METHOD:PUBLISH
X-PUBLISHED-TTL:P3D
REFRESH-INTERVAL:P3D
CALSCALE:GREGORIAN
BEGIN:VEVENT
DTSTART:20230726T230000Z
DTEND:20230727T003000Z
X-MICROSOFT-CDO-ALLDAYEVENT:FALSE
SUMMARY:Irish Sessions at Decatur Brew Works - DAAC
DESCRIPTION:Irish music extravaganza!\n\n\n\nAdults 18 and older.\n\n\n\nJoin Neal Smith on Wednesday nights at Decatur Brew Works for an introduction to Irish music and song using various instruments (whistle\, bodhran\, guitar\, etc.).  This three-week class will follow the long-standing tradition of the "Irish Session" and culminate July 26 when we'll be joined by Broken Brogue\, Decatur's own Celtic folk band.  Feodog whistle included.  \n\n\n\nNote:  This class takes place at Decatur Brew Works on three Wednesday nights.\n\n\n\nInstructor:  Dr. Neal Smith\, Millikin University professor and founding member of Broken Brogue
X-ALT-DESC;FMTTYPE=text/html:Irish music extravaganza!<br />\n<br />\nAdults 18 and older.<br />\n<br />\nJoin Neal Smith on Wednesday nights at Decatur Brew Works for an introduction to Irish music and song using various instruments (whistle\, bodhran\, guitar\, etc.).&nbsp\; This three-week class will follow the long-standing tradition of the &ldquo\;Irish Session&rdquo\; and culminate July 26&nbsp\;when we&rsquo\;ll be joined by Broken Brogue\, Decatur&rsquo\;s own Celtic folk band.&nbsp\; Feodog whistle included.&nbsp\;&nbsp\;<br />\n<br />\nNote:&nbsp\; This class takes place at Decatur Brew Works on three Wednesday nights.<br />\n<br />\nInstructor:&nbsp\; Dr. Neal Smith\, Millikin University professor and founding member of Broken Brogue
LOCATION:125 N. Water Street\, Decatur\, IL 62523
UID:e.1825.5019
SEQUENCE:3
DTSTAMP:20260419T150036Z
URL:http://business.decaturchamber.com/events/details/irish-sessions-at-decatur-brew-works-daac-5019
END:VEVENT

END:VCALENDAR
