BEGIN:VCALENDAR
VERSION:2.0
PRODID:-//ChamberMaster//Event Calendar 2.0//EN
METHOD:PUBLISH
X-PUBLISHED-TTL:P3D
REFRESH-INTERVAL:P3D
CALSCALE:GREGORIAN
BEGIN:VEVENT
DTSTART:20230212T003000Z
DTEND:20230212T030000Z
X-MICROSOFT-CDO-ALLDAYEVENT:FALSE
SUMMARY:The Valentine Gala - Millikin University School of Music
DESCRIPTION:Don't miss the phenomenal Valentine's event on Saturday\, February 11th at the Decatur Club!\n\n\n\nThe spectacular Angel Spiccia will be gracing us with her presence accompanied by the extremely talented Millikin Jazz Band I\, under the direction of Dr. Perry Rask. For more information on Angel visit - www.angelspiccia.com.
X-ALT-DESC;FMTTYPE=text/html:Don&#39\;t miss the phenomenal Valentine&#39\;s event on Saturday\, February 11th at the Decatur Club!<br />\n<br />\nThe spectacular Angel Spiccia will be gracing us with her presence accompanied by the extremely talented Millikin Jazz Band I\, under the direction of Dr. Perry Rask. For more information on Angel visit - <a href="http://www.angelspiccia.com">www.angelspiccia.com</a>.<br />\n<br />\n<br />\n<br />\n&nbsp\;<br />\n&nbsp\;
LOCATION:158 W. Prairie Ave.\, Decatur\, IL
UID:e.1825.4898
SEQUENCE:3
DTSTAMP:20260419T233627Z
URL:http://business.decaturchamber.com/events/details/the-valentine-gala-millikin-university-school-of-music-4898
END:VEVENT

END:VCALENDAR
