BEGIN:VCALENDAR
VERSION:2.0
PRODID:-//ChamberMaster//Event Calendar 2.0//EN
METHOD:PUBLISH
X-PUBLISHED-TTL:P3D
REFRESH-INTERVAL:P3D
CALSCALE:GREGORIAN
BEGIN:VEVENT
DTSTART:20061017T140000Z
DTEND:20061017T180000Z
X-MICROSOFT-CDO-ALLDAYEVENT:FALSE
SUMMARY:TradeRoots - Illinois International Trade Leadership Forum
DESCRIPTION:The Chamber has partnered with the U.S. Chamber of Commerce to offer TradeRoots\, a resource to help in the international trade process.\n\nThe first TradeRoots program is an International Trade Leadership Forum featuring speakers including Leslie Schweitzer\, Senior Trade Advisor\, International Trade Finance Group\; Sean Connell\, Executive Director\, U.S./Korea Business Council\; Patrick Kilbride\, Director Intergovernment Affairs\, USTR\; and local business leaders sharing their sucess stories.  Attendees will learn the benefits and opportunities of trade and free trade agreements along with the best resources for financing international trade efforts.
X-ALT-DESC;FMTTYPE=text/html:The Chamber has partnered with the U.S. Chamber of Commerce to offer TradeRoots\, a resource to help in the international trade process.\n\nThe first TradeRoots program is an International Trade Leadership Forum featuring speakers including Leslie Schweitzer\, Senior Trade Advisor\, International Trade Finance Group\; Sean Connell\, Executive Director\, U.S./Korea Business Council\; Patrick Kilbride\, Director Intergovernment Affairs\, USTR\; and local business leaders sharing their sucess stories.  Attendees will learn the benefits and opportunities of trade and free trade agreements along with the best resources for financing international trade efforts.
LOCATION:
UID:e.1825.21
SEQUENCE:3
DTSTAMP:20260423T065114Z
URL:http://business.decaturchamber.com/events/details/traderoots-illinois-international-trade-leadership-forum-10-17-2006-21
END:VEVENT

END:VCALENDAR
