BEGIN:VCALENDAR
VERSION:2.0
PRODID:-//ChamberMaster//Event Calendar 2.0//EN
METHOD:PUBLISH
X-PUBLISHED-TTL:P3D
REFRESH-INTERVAL:P3D
CALSCALE:GREGORIAN
BEGIN:VEVENT
DTSTART:20230711T180000Z
DTEND:20230711T203000Z
X-MICROSOFT-CDO-ALLDAYEVENT:FALSE
SUMMARY:Trash to Treasure Camp - DAAC
DESCRIPTION:Something old to something new!\n\n\n\nRecommended ages are 7 and older.\n\n\n\nUsing the art of paper mache\, Instructor Jenny Cowgill will show you how to use recyclables to create animal sculptures and wall hangings full of fun and whimsy.\n\n\n\nPARENTS:  If your child qualifies for a DPS 61 student program discount\, you must have the child's six-digit DPS school ID number and the Arts Council promo code.  Their ID number is available from your school office\, and the promo code is available by calling the Arts Council during office hours. \n\n\n\nInstructor: Jenny Cowgill
X-ALT-DESC;FMTTYPE=text/html:Something old to something new!<br />\n<br />\nRecommended ages are 7 and older.<br />\n<br />\nUsing the art of paper mache\, Instructor Jenny Cowgill will show you how to use recyclables to create animal sculptures and wall hangings full of fun and whimsy.<br />\n<br />\nPARENTS:&nbsp\; If your child qualifies for a DPS 61 student program discount\, you must have the child&#39\;s six-digit DPS school ID number&nbsp\;and&nbsp\;the Arts Council promo code.&nbsp\; Their ID number is available from your school office\, and the promo code is available by calling the Arts Council during office hours.&nbsp\;<br />\n<br />\nInstructor: Jenny Cowgill
LOCATION:125 N. Water Street\, Decatur\, IL 62523
UID:e.1825.4995
SEQUENCE:3
DTSTAMP:20260419T145954Z
URL:http://business.decaturchamber.com/events/details/trash-to-treasure-camp-daac-4995
END:VEVENT

END:VCALENDAR
