BEGIN:VCALENDAR
VERSION:2.0
PRODID:-//ChamberMaster//Event Calendar 2.0//EN
METHOD:PUBLISH
X-PUBLISHED-TTL:P3D
REFRESH-INTERVAL:P3D
CALSCALE:GREGORIAN
BEGIN:VEVENT
DTSTART:20260511T210000Z
DTEND:20260511T230000Z
X-MICROSOFT-CDO-ALLDAYEVENT:FALSE
SUMMARY:Autism Friendly Spring Photos
DESCRIPTION:A Path Forward and Bump to Baby Luxury Photography are partnering to provide a calm sensory friendly photo experience designed with patience\, flexibility\, and care.
X-ALT-DESC;FMTTYPE=text/html:A Path Forward and Bump to Baby Luxury Photography are partnering to provide a calm sensory friendly photo experience designed with patience\, flexibility\, and care.
LOCATION:A Path Forward 1301 E Mound RD\, Suite 100
UID:e.1825.5953
SEQUENCE:3
DTSTAMP:20260420T212431Z
URL:https://business.decaturchamber.com/events/details/autism-friendly-spring-photos-5953
END:VEVENT

END:VCALENDAR
