BEGIN:VCALENDAR
VERSION:2.0
PRODID:-//ChamberMaster//Event Calendar 2.0//EN
METHOD:PUBLISH
X-PUBLISHED-TTL:P3D
REFRESH-INTERVAL:P3D
CALSCALE:GREGORIAN
BEGIN:VEVENT
DTSTART:20260425T180000Z
DTEND:20260426T010000Z
X-MICROSOFT-CDO-ALLDAYEVENT:FALSE
SUMMARY:Belt Sander Drag Racing
DESCRIPTION:ThinkWell Makerspace is bringing back one of its most unique and entertaining traditions: Belt Sander Drag Racing. As part of its anniversary celebration on Saturday\, April 25 from 1 PM to 8 PM\, participants and spectators alike are invited to experience the spectacle of belt sanders racing head-to-head in a custom track competition. Racers can bring their own belt sanders to compete in either the unmodified division (cosmetic changes only) or modified division (mechanical modifications allowed). Races begin at 1 PM and will feature heats and finals based on participation. Entry is free. Safety guidelines prohibit the use of compressed air or rocketry. The Belt Sander Drag Races will take place alongside the ThinkWell Anniversary Market\, where visitors can browse up to 20 local vendors\, explore the makerspace\, and connect with the creative community. "This is the kind of event you don't see every day\," a representative said. "It's part engineering\, part creativity\, and 100% fun to watch." The event is free and open to the public at ThinkWell Makerspace\, located at 120 N. Franklin St.\, upstairs at the library. Parking is available in the library lot and nearby downtown parking garage.
X-ALT-DESC;FMTTYPE=text/html:ThinkWell Makerspace is bringing back one of its most unique and entertaining traditions: Belt Sander Drag Racing. As part of its anniversary celebration on Saturday\, April 25 from 1 PM to 8 PM\, participants and spectators alike are invited to experience the spectacle of belt sanders racing head-to-head in a custom track competition. Racers can bring their own belt sanders to compete in either the unmodified division (cosmetic changes only) or modified division (mechanical modifications allowed). Races begin at 1 PM and will feature heats and finals based on participation. Entry is free. Safety guidelines prohibit the use of compressed air or rocketry. The Belt Sander Drag Races will take place alongside the ThinkWell Anniversary Market\, where visitors can browse up to 20 local vendors\, explore the makerspace\, and connect with the creative community. &ldquo\;This is the kind of event you don&rsquo\;t see every day\,&rdquo\; a representative said. &ldquo\;It&rsquo\;s part engineering\, part creativity\, and 100% fun to watch.&rdquo\; The event is free and open to the public at ThinkWell Makerspace\, located at 120 N. Franklin St.\, upstairs at the library. Parking is available in the library lot and nearby downtown parking garage.
LOCATION:120 N. Franklin St. Decatur IL
UID:e.1825.5955
SEQUENCE:3
DTSTAMP:20260422T160912Z
URL:https://business.decaturchamber.com/events/details/belt-sander-drag-racing-5955
END:VEVENT

END:VCALENDAR
